BEGIN:VCALENDAR
VERSION:2.0
PRODID:-//Harvest Fellowship Church - ECPv6.15.20//NONSGML v1.0//EN
CALSCALE:GREGORIAN
METHOD:PUBLISH
X-WR-CALNAME:Harvest Fellowship Church
X-ORIGINAL-URL:https://harvestfellowshipsc.com
X-WR-CALDESC:Events for Harvest Fellowship Church
REFRESH-INTERVAL;VALUE=DURATION:PT1H
X-Robots-Tag:noindex
X-PUBLISHED-TTL:PT1H
BEGIN:VTIMEZONE
TZID:UTC
BEGIN:STANDARD
TZOFFSETFROM:+0000
TZOFFSETTO:+0000
TZNAME:UTC
DTSTART:20210101T000000
END:STANDARD
END:VTIMEZONE
BEGIN:VEVENT
DTSTART;TZID=UTC:20221101T190000
DTEND;TZID=UTC:20221101T190000
DTSTAMP:20260423T123323
CREATED:20230205T184928Z
LAST-MODIFIED:20230205T185121Z
UID:10000317-1667329200-1667329200@harvestfellowshipsc.com
SUMMARY:Prayer
DESCRIPTION:
URL:https://harvestfellowshipsc.com/event/prayer/2022-11-01/
END:VEVENT
BEGIN:VEVENT
DTSTART;TZID=UTC:20221103T190000
DTEND;TZID=UTC:20221103T190000
DTSTAMP:20260423T123323
CREATED:20230205T185301Z
LAST-MODIFIED:20230205T185301Z
UID:10000374-1667502000-1667502000@harvestfellowshipsc.com
SUMMARY:Bible Study
DESCRIPTION:
URL:https://harvestfellowshipsc.com/event/bible-study/2022-11-03/
END:VEVENT
BEGIN:VEVENT
DTSTART;TZID=UTC:20221106T084500
DTEND;TZID=UTC:20221106T094500
DTSTAMP:20260423T123323
CREATED:20230205T190337Z
LAST-MODIFIED:20250709T230237Z
UID:10001011-1667724300-1667727900@harvestfellowshipsc.com
SUMMARY:Foundations I & II
DESCRIPTION:
URL:https://harvestfellowshipsc.com/event/foundations-ii/2022-11-06/
END:VEVENT
BEGIN:VEVENT
DTSTART;TZID=UTC:20221106T100000
DTEND;TZID=UTC:20221106T100000
DTSTAMP:20260423T123323
CREATED:20230205T185654Z
LAST-MODIFIED:20230205T191206Z
UID:10000693-1667728800-1667728800@harvestfellowshipsc.com
SUMMARY:Worship Service
DESCRIPTION:
URL:https://harvestfellowshipsc.com/event/worship-service/2022-11-06/
END:VEVENT
BEGIN:VEVENT
DTSTART;TZID=UTC:20221108T190000
DTEND;TZID=UTC:20221108T190000
DTSTAMP:20260423T123323
CREATED:20230205T184928Z
LAST-MODIFIED:20230205T185121Z
UID:10000318-1667934000-1667934000@harvestfellowshipsc.com
SUMMARY:Prayer
DESCRIPTION:
URL:https://harvestfellowshipsc.com/event/prayer/2022-11-08/
END:VEVENT
BEGIN:VEVENT
DTSTART;TZID=UTC:20221110T190000
DTEND;TZID=UTC:20221110T190000
DTSTAMP:20260423T123323
CREATED:20230205T185301Z
LAST-MODIFIED:20230205T185301Z
UID:10000375-1668106800-1668106800@harvestfellowshipsc.com
SUMMARY:Bible Study
DESCRIPTION:
URL:https://harvestfellowshipsc.com/event/bible-study/2022-11-10/
END:VEVENT
BEGIN:VEVENT
DTSTART;TZID=UTC:20221113T084500
DTEND;TZID=UTC:20221113T094500
DTSTAMP:20260423T123323
CREATED:20230205T190337Z
LAST-MODIFIED:20250709T230237Z
UID:10001012-1668329100-1668332700@harvestfellowshipsc.com
SUMMARY:Foundations I & II
DESCRIPTION:
URL:https://harvestfellowshipsc.com/event/foundations-ii/2022-11-13/
END:VEVENT
BEGIN:VEVENT
DTSTART;TZID=UTC:20221113T100000
DTEND;TZID=UTC:20221113T100000
DTSTAMP:20260423T123323
CREATED:20230205T185654Z
LAST-MODIFIED:20230205T191206Z
UID:10000694-1668333600-1668333600@harvestfellowshipsc.com
SUMMARY:Worship Service
DESCRIPTION:
URL:https://harvestfellowshipsc.com/event/worship-service/2022-11-13/
END:VEVENT
BEGIN:VEVENT
DTSTART;TZID=UTC:20221115T190000
DTEND;TZID=UTC:20221115T190000
DTSTAMP:20260423T123323
CREATED:20230205T184928Z
LAST-MODIFIED:20230205T185121Z
UID:10000319-1668538800-1668538800@harvestfellowshipsc.com
SUMMARY:Prayer
DESCRIPTION:
URL:https://harvestfellowshipsc.com/event/prayer/2022-11-15/
END:VEVENT
BEGIN:VEVENT
DTSTART;TZID=UTC:20221117T190000
DTEND;TZID=UTC:20221117T190000
DTSTAMP:20260423T123323
CREATED:20230205T185301Z
LAST-MODIFIED:20230205T185301Z
UID:10000376-1668711600-1668711600@harvestfellowshipsc.com
SUMMARY:Bible Study
DESCRIPTION:
URL:https://harvestfellowshipsc.com/event/bible-study/2022-11-17/
END:VEVENT
BEGIN:VEVENT
DTSTART;TZID=UTC:20221120T084500
DTEND;TZID=UTC:20221120T094500
DTSTAMP:20260423T123323
CREATED:20230205T190337Z
LAST-MODIFIED:20250709T230237Z
UID:10001013-1668933900-1668937500@harvestfellowshipsc.com
SUMMARY:Foundations I & II
DESCRIPTION:
URL:https://harvestfellowshipsc.com/event/foundations-ii/2022-11-20/
END:VEVENT
BEGIN:VEVENT
DTSTART;TZID=UTC:20221120T100000
DTEND;TZID=UTC:20221120T100000
DTSTAMP:20260423T123323
CREATED:20230205T185654Z
LAST-MODIFIED:20230205T191206Z
UID:10000695-1668938400-1668938400@harvestfellowshipsc.com
SUMMARY:Worship Service
DESCRIPTION:
URL:https://harvestfellowshipsc.com/event/worship-service/2022-11-20/
END:VEVENT
BEGIN:VEVENT
DTSTART;TZID=UTC:20221122T190000
DTEND;TZID=UTC:20221122T190000
DTSTAMP:20260423T123323
CREATED:20230205T184928Z
LAST-MODIFIED:20230205T185121Z
UID:10000320-1669143600-1669143600@harvestfellowshipsc.com
SUMMARY:Prayer
DESCRIPTION:
URL:https://harvestfellowshipsc.com/event/prayer/2022-11-22/
END:VEVENT
BEGIN:VEVENT
DTSTART;TZID=UTC:20221124T190000
DTEND;TZID=UTC:20221124T190000
DTSTAMP:20260423T123323
CREATED:20230205T185301Z
LAST-MODIFIED:20230205T185301Z
UID:10000377-1669316400-1669316400@harvestfellowshipsc.com
SUMMARY:Bible Study
DESCRIPTION:
URL:https://harvestfellowshipsc.com/event/bible-study/2022-11-24/
END:VEVENT
BEGIN:VEVENT
DTSTART;TZID=UTC:20221127T084500
DTEND;TZID=UTC:20221127T094500
DTSTAMP:20260423T123323
CREATED:20230205T190337Z
LAST-MODIFIED:20250709T230237Z
UID:10001014-1669538700-1669542300@harvestfellowshipsc.com
SUMMARY:Foundations I & II
DESCRIPTION:
URL:https://harvestfellowshipsc.com/event/foundations-ii/2022-11-27/
END:VEVENT
BEGIN:VEVENT
DTSTART;TZID=UTC:20221127T100000
DTEND;TZID=UTC:20221127T100000
DTSTAMP:20260423T123323
CREATED:20230205T185654Z
LAST-MODIFIED:20230205T191206Z
UID:10000696-1669543200-1669543200@harvestfellowshipsc.com
SUMMARY:Worship Service
DESCRIPTION:
URL:https://harvestfellowshipsc.com/event/worship-service/2022-11-27/
END:VEVENT
BEGIN:VEVENT
DTSTART;TZID=UTC:20221129T190000
DTEND;TZID=UTC:20221129T190000
DTSTAMP:20260423T123323
CREATED:20230205T184928Z
LAST-MODIFIED:20230205T185121Z
UID:10000321-1669748400-1669748400@harvestfellowshipsc.com
SUMMARY:Prayer
DESCRIPTION:
URL:https://harvestfellowshipsc.com/event/prayer/2022-11-29/
END:VEVENT
END:VCALENDAR