BEGIN:VCALENDAR
VERSION:2.0
PRODID:-//Harvest Fellowship Church - ECPv6.15.20//NONSGML v1.0//EN
CALSCALE:GREGORIAN
METHOD:PUBLISH
X-WR-CALNAME:Harvest Fellowship Church
X-ORIGINAL-URL:https://harvestfellowshipsc.com
X-WR-CALDESC:Events for Harvest Fellowship Church
REFRESH-INTERVAL;VALUE=DURATION:PT1H
X-Robots-Tag:noindex
X-PUBLISHED-TTL:PT1H
BEGIN:VTIMEZONE
TZID:UTC
BEGIN:STANDARD
TZOFFSETFROM:+0000
TZOFFSETTO:+0000
TZNAME:UTC
DTSTART:20210101T000000
END:STANDARD
END:VTIMEZONE
BEGIN:VEVENT
DTSTART;TZID=UTC:20220901T190000
DTEND;TZID=UTC:20220901T190000
DTSTAMP:20260423T161803
CREATED:20230205T185301Z
LAST-MODIFIED:20230205T185301Z
UID:10000365-1662058800-1662058800@harvestfellowshipsc.com
SUMMARY:Bible Study
DESCRIPTION:
URL:https://harvestfellowshipsc.com/event/bible-study/2022-09-01/
END:VEVENT
BEGIN:VEVENT
DTSTART;TZID=UTC:20220904T084500
DTEND;TZID=UTC:20220904T094500
DTSTAMP:20260423T161803
CREATED:20230205T190337Z
LAST-MODIFIED:20250709T230237Z
UID:10001002-1662281100-1662284700@harvestfellowshipsc.com
SUMMARY:Foundations I & II
DESCRIPTION:
URL:https://harvestfellowshipsc.com/event/foundations-ii/2022-09-04/
END:VEVENT
BEGIN:VEVENT
DTSTART;TZID=UTC:20220904T100000
DTEND;TZID=UTC:20220904T100000
DTSTAMP:20260423T161803
CREATED:20230205T185654Z
LAST-MODIFIED:20230205T191206Z
UID:10000684-1662285600-1662285600@harvestfellowshipsc.com
SUMMARY:Worship Service
DESCRIPTION:
URL:https://harvestfellowshipsc.com/event/worship-service/2022-09-04/
END:VEVENT
BEGIN:VEVENT
DTSTART;TZID=UTC:20220906T190000
DTEND;TZID=UTC:20220906T190000
DTSTAMP:20260423T161803
CREATED:20230205T184928Z
LAST-MODIFIED:20230205T185121Z
UID:10000309-1662490800-1662490800@harvestfellowshipsc.com
SUMMARY:Prayer
DESCRIPTION:
URL:https://harvestfellowshipsc.com/event/prayer/2022-09-06/
END:VEVENT
BEGIN:VEVENT
DTSTART;TZID=UTC:20220908T190000
DTEND;TZID=UTC:20220908T190000
DTSTAMP:20260423T161803
CREATED:20230205T185301Z
LAST-MODIFIED:20230205T185301Z
UID:10000366-1662663600-1662663600@harvestfellowshipsc.com
SUMMARY:Bible Study
DESCRIPTION:
URL:https://harvestfellowshipsc.com/event/bible-study/2022-09-08/
END:VEVENT
BEGIN:VEVENT
DTSTART;TZID=UTC:20220911T084500
DTEND;TZID=UTC:20220911T094500
DTSTAMP:20260423T161803
CREATED:20230205T190337Z
LAST-MODIFIED:20250709T230237Z
UID:10001003-1662885900-1662889500@harvestfellowshipsc.com
SUMMARY:Foundations I & II
DESCRIPTION:
URL:https://harvestfellowshipsc.com/event/foundations-ii/2022-09-11/
END:VEVENT
BEGIN:VEVENT
DTSTART;TZID=UTC:20220911T100000
DTEND;TZID=UTC:20220911T100000
DTSTAMP:20260423T161803
CREATED:20230205T185654Z
LAST-MODIFIED:20230205T191206Z
UID:10000685-1662890400-1662890400@harvestfellowshipsc.com
SUMMARY:Worship Service
DESCRIPTION:
URL:https://harvestfellowshipsc.com/event/worship-service/2022-09-11/
END:VEVENT
BEGIN:VEVENT
DTSTART;TZID=UTC:20220913T190000
DTEND;TZID=UTC:20220913T190000
DTSTAMP:20260423T161803
CREATED:20230205T184928Z
LAST-MODIFIED:20230205T185121Z
UID:10000310-1663095600-1663095600@harvestfellowshipsc.com
SUMMARY:Prayer
DESCRIPTION:
URL:https://harvestfellowshipsc.com/event/prayer/2022-09-13/
END:VEVENT
BEGIN:VEVENT
DTSTART;TZID=UTC:20220915T190000
DTEND;TZID=UTC:20220915T190000
DTSTAMP:20260423T161803
CREATED:20230205T185301Z
LAST-MODIFIED:20230205T185301Z
UID:10000367-1663268400-1663268400@harvestfellowshipsc.com
SUMMARY:Bible Study
DESCRIPTION:
URL:https://harvestfellowshipsc.com/event/bible-study/2022-09-15/
END:VEVENT
BEGIN:VEVENT
DTSTART;TZID=UTC:20220918T084500
DTEND;TZID=UTC:20220918T094500
DTSTAMP:20260423T161803
CREATED:20230205T190337Z
LAST-MODIFIED:20250709T230237Z
UID:10001004-1663490700-1663494300@harvestfellowshipsc.com
SUMMARY:Foundations I & II
DESCRIPTION:
URL:https://harvestfellowshipsc.com/event/foundations-ii/2022-09-18/
END:VEVENT
BEGIN:VEVENT
DTSTART;TZID=UTC:20220918T100000
DTEND;TZID=UTC:20220918T100000
DTSTAMP:20260423T161803
CREATED:20230205T185654Z
LAST-MODIFIED:20230205T191206Z
UID:10000686-1663495200-1663495200@harvestfellowshipsc.com
SUMMARY:Worship Service
DESCRIPTION:
URL:https://harvestfellowshipsc.com/event/worship-service/2022-09-18/
END:VEVENT
BEGIN:VEVENT
DTSTART;TZID=UTC:20220920T190000
DTEND;TZID=UTC:20220920T190000
DTSTAMP:20260423T161803
CREATED:20230205T184928Z
LAST-MODIFIED:20230205T185121Z
UID:10000311-1663700400-1663700400@harvestfellowshipsc.com
SUMMARY:Prayer
DESCRIPTION:
URL:https://harvestfellowshipsc.com/event/prayer/2022-09-20/
END:VEVENT
BEGIN:VEVENT
DTSTART;TZID=UTC:20220922T190000
DTEND;TZID=UTC:20220922T190000
DTSTAMP:20260423T161803
CREATED:20230205T185301Z
LAST-MODIFIED:20230205T185301Z
UID:10000368-1663873200-1663873200@harvestfellowshipsc.com
SUMMARY:Bible Study
DESCRIPTION:
URL:https://harvestfellowshipsc.com/event/bible-study/2022-09-22/
END:VEVENT
BEGIN:VEVENT
DTSTART;TZID=UTC:20220925T084500
DTEND;TZID=UTC:20220925T094500
DTSTAMP:20260423T161803
CREATED:20230205T190337Z
LAST-MODIFIED:20250709T230237Z
UID:10001005-1664095500-1664099100@harvestfellowshipsc.com
SUMMARY:Foundations I & II
DESCRIPTION:
URL:https://harvestfellowshipsc.com/event/foundations-ii/2022-09-25/
END:VEVENT
BEGIN:VEVENT
DTSTART;TZID=UTC:20220925T100000
DTEND;TZID=UTC:20220925T100000
DTSTAMP:20260423T161803
CREATED:20230205T185654Z
LAST-MODIFIED:20230205T191206Z
UID:10000687-1664100000-1664100000@harvestfellowshipsc.com
SUMMARY:Worship Service
DESCRIPTION:
URL:https://harvestfellowshipsc.com/event/worship-service/2022-09-25/
END:VEVENT
BEGIN:VEVENT
DTSTART;TZID=UTC:20220927T190000
DTEND;TZID=UTC:20220927T190000
DTSTAMP:20260423T161803
CREATED:20230205T184928Z
LAST-MODIFIED:20230205T185121Z
UID:10000312-1664305200-1664305200@harvestfellowshipsc.com
SUMMARY:Prayer
DESCRIPTION:
URL:https://harvestfellowshipsc.com/event/prayer/2022-09-27/
END:VEVENT
BEGIN:VEVENT
DTSTART;TZID=UTC:20220929T190000
DTEND;TZID=UTC:20220929T190000
DTSTAMP:20260423T161803
CREATED:20230205T185301Z
LAST-MODIFIED:20230205T185301Z
UID:10000369-1664478000-1664478000@harvestfellowshipsc.com
SUMMARY:Bible Study
DESCRIPTION:
URL:https://harvestfellowshipsc.com/event/bible-study/2022-09-29/
END:VEVENT
END:VCALENDAR