BEGIN:VCALENDAR
VERSION:2.0
PRODID:-//Harvest Fellowship Church - ECPv6.15.20//NONSGML v1.0//EN
CALSCALE:GREGORIAN
METHOD:PUBLISH
X-WR-CALNAME:Harvest Fellowship Church
X-ORIGINAL-URL:https://harvestfellowshipsc.com
X-WR-CALDESC:Events for Harvest Fellowship Church
REFRESH-INTERVAL;VALUE=DURATION:PT1H
X-Robots-Tag:noindex
X-PUBLISHED-TTL:PT1H
BEGIN:VTIMEZONE
TZID:UTC
BEGIN:STANDARD
TZOFFSETFROM:+0000
TZOFFSETTO:+0000
TZNAME:UTC
DTSTART:20210101T000000
END:STANDARD
END:VTIMEZONE
BEGIN:VEVENT
DTSTART;TZID=UTC:20220802T190000
DTEND;TZID=UTC:20220802T190000
DTSTAMP:20260423T181115
CREATED:20230205T184928Z
LAST-MODIFIED:20230205T185121Z
UID:10000304-1659466800-1659466800@harvestfellowshipsc.com
SUMMARY:Prayer
DESCRIPTION:
URL:https://harvestfellowshipsc.com/event/prayer/2022-08-02/
END:VEVENT
BEGIN:VEVENT
DTSTART;TZID=UTC:20220804T190000
DTEND;TZID=UTC:20220804T190000
DTSTAMP:20260423T181115
CREATED:20230205T185301Z
LAST-MODIFIED:20230205T185301Z
UID:10000361-1659639600-1659639600@harvestfellowshipsc.com
SUMMARY:Bible Study
DESCRIPTION:
URL:https://harvestfellowshipsc.com/event/bible-study/2022-08-04/
END:VEVENT
BEGIN:VEVENT
DTSTART;TZID=UTC:20220807T084500
DTEND;TZID=UTC:20220807T094500
DTSTAMP:20260423T181115
CREATED:20230205T190337Z
LAST-MODIFIED:20250709T230237Z
UID:10000998-1659861900-1659865500@harvestfellowshipsc.com
SUMMARY:Foundations I & II
DESCRIPTION:
URL:https://harvestfellowshipsc.com/event/foundations-ii/2022-08-07/
END:VEVENT
BEGIN:VEVENT
DTSTART;TZID=UTC:20220807T100000
DTEND;TZID=UTC:20220807T100000
DTSTAMP:20260423T181115
CREATED:20230205T185654Z
LAST-MODIFIED:20230205T191206Z
UID:10000680-1659866400-1659866400@harvestfellowshipsc.com
SUMMARY:Worship Service
DESCRIPTION:
URL:https://harvestfellowshipsc.com/event/worship-service/2022-08-07/
END:VEVENT
BEGIN:VEVENT
DTSTART;TZID=UTC:20220809T190000
DTEND;TZID=UTC:20220809T190000
DTSTAMP:20260423T181115
CREATED:20230205T184928Z
LAST-MODIFIED:20230205T185121Z
UID:10000305-1660071600-1660071600@harvestfellowshipsc.com
SUMMARY:Prayer
DESCRIPTION:
URL:https://harvestfellowshipsc.com/event/prayer/2022-08-09/
END:VEVENT
BEGIN:VEVENT
DTSTART;TZID=UTC:20220811T190000
DTEND;TZID=UTC:20220811T190000
DTSTAMP:20260423T181115
CREATED:20230205T185301Z
LAST-MODIFIED:20230205T185301Z
UID:10000362-1660244400-1660244400@harvestfellowshipsc.com
SUMMARY:Bible Study
DESCRIPTION:
URL:https://harvestfellowshipsc.com/event/bible-study/2022-08-11/
END:VEVENT
BEGIN:VEVENT
DTSTART;TZID=UTC:20220814T084500
DTEND;TZID=UTC:20220814T094500
DTSTAMP:20260423T181115
CREATED:20230205T190337Z
LAST-MODIFIED:20250709T230237Z
UID:10000999-1660466700-1660470300@harvestfellowshipsc.com
SUMMARY:Foundations I & II
DESCRIPTION:
URL:https://harvestfellowshipsc.com/event/foundations-ii/2022-08-14/
END:VEVENT
BEGIN:VEVENT
DTSTART;TZID=UTC:20220814T100000
DTEND;TZID=UTC:20220814T100000
DTSTAMP:20260423T181115
CREATED:20230205T185654Z
LAST-MODIFIED:20230205T191206Z
UID:10000681-1660471200-1660471200@harvestfellowshipsc.com
SUMMARY:Worship Service
DESCRIPTION:
URL:https://harvestfellowshipsc.com/event/worship-service/2022-08-14/
END:VEVENT
BEGIN:VEVENT
DTSTART;TZID=UTC:20220816T190000
DTEND;TZID=UTC:20220816T190000
DTSTAMP:20260423T181115
CREATED:20230205T184928Z
LAST-MODIFIED:20230205T185121Z
UID:10000306-1660676400-1660676400@harvestfellowshipsc.com
SUMMARY:Prayer
DESCRIPTION:
URL:https://harvestfellowshipsc.com/event/prayer/2022-08-16/
END:VEVENT
BEGIN:VEVENT
DTSTART;TZID=UTC:20220818T190000
DTEND;TZID=UTC:20220818T190000
DTSTAMP:20260423T181115
CREATED:20230205T185301Z
LAST-MODIFIED:20230205T185301Z
UID:10000363-1660849200-1660849200@harvestfellowshipsc.com
SUMMARY:Bible Study
DESCRIPTION:
URL:https://harvestfellowshipsc.com/event/bible-study/2022-08-18/
END:VEVENT
BEGIN:VEVENT
DTSTART;TZID=UTC:20220821T084500
DTEND;TZID=UTC:20220821T094500
DTSTAMP:20260423T181115
CREATED:20230205T190337Z
LAST-MODIFIED:20250709T230237Z
UID:10001000-1661071500-1661075100@harvestfellowshipsc.com
SUMMARY:Foundations I & II
DESCRIPTION:
URL:https://harvestfellowshipsc.com/event/foundations-ii/2022-08-21/
END:VEVENT
BEGIN:VEVENT
DTSTART;TZID=UTC:20220821T100000
DTEND;TZID=UTC:20220821T100000
DTSTAMP:20260423T181115
CREATED:20230205T185654Z
LAST-MODIFIED:20230205T191206Z
UID:10000682-1661076000-1661076000@harvestfellowshipsc.com
SUMMARY:Worship Service
DESCRIPTION:
URL:https://harvestfellowshipsc.com/event/worship-service/2022-08-21/
END:VEVENT
BEGIN:VEVENT
DTSTART;TZID=UTC:20220823T190000
DTEND;TZID=UTC:20220823T190000
DTSTAMP:20260423T181115
CREATED:20230205T184928Z
LAST-MODIFIED:20230205T185121Z
UID:10000307-1661281200-1661281200@harvestfellowshipsc.com
SUMMARY:Prayer
DESCRIPTION:
URL:https://harvestfellowshipsc.com/event/prayer/2022-08-23/
END:VEVENT
BEGIN:VEVENT
DTSTART;TZID=UTC:20220825T190000
DTEND;TZID=UTC:20220825T190000
DTSTAMP:20260423T181116
CREATED:20230205T185301Z
LAST-MODIFIED:20230205T185301Z
UID:10000364-1661454000-1661454000@harvestfellowshipsc.com
SUMMARY:Bible Study
DESCRIPTION:
URL:https://harvestfellowshipsc.com/event/bible-study/2022-08-25/
END:VEVENT
BEGIN:VEVENT
DTSTART;TZID=UTC:20220828T084500
DTEND;TZID=UTC:20220828T094500
DTSTAMP:20260423T181116
CREATED:20230205T190337Z
LAST-MODIFIED:20250709T230237Z
UID:10001001-1661676300-1661679900@harvestfellowshipsc.com
SUMMARY:Foundations I & II
DESCRIPTION:
URL:https://harvestfellowshipsc.com/event/foundations-ii/2022-08-28/
END:VEVENT
BEGIN:VEVENT
DTSTART;TZID=UTC:20220828T100000
DTEND;TZID=UTC:20220828T100000
DTSTAMP:20260423T181116
CREATED:20230205T185654Z
LAST-MODIFIED:20230205T191206Z
UID:10000683-1661680800-1661680800@harvestfellowshipsc.com
SUMMARY:Worship Service
DESCRIPTION:
URL:https://harvestfellowshipsc.com/event/worship-service/2022-08-28/
END:VEVENT
BEGIN:VEVENT
DTSTART;TZID=UTC:20220830T190000
DTEND;TZID=UTC:20220830T190000
DTSTAMP:20260423T181116
CREATED:20230205T184928Z
LAST-MODIFIED:20230205T185121Z
UID:10000308-1661886000-1661886000@harvestfellowshipsc.com
SUMMARY:Prayer
DESCRIPTION:
URL:https://harvestfellowshipsc.com/event/prayer/2022-08-30/
END:VEVENT
END:VCALENDAR